BEGIN:VCALENDAR
VERSION:2.0
PRODID:-//NeuSTADT Guides - ECPv6.15.20//NONSGML v1.0//EN
CALSCALE:GREGORIAN
METHOD:PUBLISH
X-ORIGINAL-URL:https://www.neustadtguides.de
X-WR-CALDESC:Veranstaltungen für NeuSTADT Guides
REFRESH-INTERVAL;VALUE=DURATION:PT1H
X-Robots-Tag:noindex
X-PUBLISHED-TTL:PT1H
BEGIN:VTIMEZONE
TZID:Europe/Berlin
BEGIN:DAYLIGHT
TZOFFSETFROM:+0100
TZOFFSETTO:+0200
TZNAME:CEST
DTSTART:20250330T010000
END:DAYLIGHT
BEGIN:STANDARD
TZOFFSETFROM:+0200
TZOFFSETTO:+0100
TZNAME:CET
DTSTART:20251026T010000
END:STANDARD
BEGIN:DAYLIGHT
TZOFFSETFROM:+0100
TZOFFSETTO:+0200
TZNAME:CEST
DTSTART:20260329T010000
END:DAYLIGHT
BEGIN:STANDARD
TZOFFSETFROM:+0200
TZOFFSETTO:+0100
TZNAME:CET
DTSTART:20261025T010000
END:STANDARD
BEGIN:DAYLIGHT
TZOFFSETFROM:+0100
TZOFFSETTO:+0200
TZNAME:CEST
DTSTART:20270328T010000
END:DAYLIGHT
BEGIN:STANDARD
TZOFFSETFROM:+0200
TZOFFSETTO:+0100
TZNAME:CET
DTSTART:20271031T010000
END:STANDARD
END:VTIMEZONE
BEGIN:VEVENT
DTSTART;TZID=Europe/Berlin:20260607T150000
DTEND;TZID=Europe/Berlin:20260607T170000
DTSTAMP:20260421T141707
CREATED:20251223T101843Z
LAST-MODIFIED:20251223T101847Z
UID:2429-1780844400-1780851600@www.neustadtguides.de
SUMMARY:Turmöffnung 2026 Juni
DESCRIPTION:Der Turm ist zur Besichtigung geöffnet. Die Besichtigung ist kostenlos\, über eine Spende freuen sich die Gästeführer.
URL:https://www.neustadtguides.de/event/turmoeffnung-2026-juni/
LOCATION:Junker Hansen Turm\, Junker Hansen Turm\, Neustadt\, Hessen\, 35279\, Deutschland
CATEGORIES:Turmöffnungen
END:VEVENT
BEGIN:VEVENT
DTSTART;TZID=Europe/Berlin:20260627T130000
DTEND;TZID=Europe/Berlin:20260628T170000
DTSTAMP:20260421T141707
CREATED:20251223T103431Z
LAST-MODIFIED:20251223T103437Z
UID:2443-1782565200-1782666000@www.neustadtguides.de
SUMMARY:Junker Hanser Mittelaltermarkt
DESCRIPTION:Turm ist geöffnet anlässlich des Mittelaltermarktes. Auf der Homepage https://www.mittelalter-neustadt.de wird das bereits beworben. \n\n\n\nDie Öffnungszeiten sind: \n\n\n\n\nSamstag von 13:00 bis 17:00 Uhr\n\n\n\nSonntag von 13:00 bis 17:00 Uhr\n\n\n\n\nEs sind maximal 20 Personen im Turm erlaubt.
URL:https://www.neustadtguides.de/event/junker-hanser-mittelaltermarkt-2/
LOCATION:Junker Hansen Turm\, Junker Hansen Turm\, Neustadt\, Hessen\, 35279\, Deutschland
CATEGORIES:Turmöffnungen
END:VEVENT
END:VCALENDAR