BEGIN:VCALENDAR
VERSION:2.0
PRODID:-//NeuSTADT Guides - ECPv6.15.20//NONSGML v1.0//EN
CALSCALE:GREGORIAN
METHOD:PUBLISH
X-WR-CALNAME:NeuSTADT Guides
X-ORIGINAL-URL:https://www.neustadtguides.de
X-WR-CALDESC:Veranstaltungen für NeuSTADT Guides
REFRESH-INTERVAL;VALUE=DURATION:PT1H
X-Robots-Tag:noindex
X-PUBLISHED-TTL:PT1H
BEGIN:VTIMEZONE
TZID:Europe/Berlin
BEGIN:DAYLIGHT
TZOFFSETFROM:+0100
TZOFFSETTO:+0200
TZNAME:CEST
DTSTART:20250330T010000
END:DAYLIGHT
BEGIN:STANDARD
TZOFFSETFROM:+0200
TZOFFSETTO:+0100
TZNAME:CET
DTSTART:20251026T010000
END:STANDARD
BEGIN:DAYLIGHT
TZOFFSETFROM:+0100
TZOFFSETTO:+0200
TZNAME:CEST
DTSTART:20260329T010000
END:DAYLIGHT
BEGIN:STANDARD
TZOFFSETFROM:+0200
TZOFFSETTO:+0100
TZNAME:CET
DTSTART:20261025T010000
END:STANDARD
BEGIN:DAYLIGHT
TZOFFSETFROM:+0100
TZOFFSETTO:+0200
TZNAME:CEST
DTSTART:20270328T010000
END:DAYLIGHT
BEGIN:STANDARD
TZOFFSETFROM:+0200
TZOFFSETTO:+0100
TZNAME:CET
DTSTART:20271031T010000
END:STANDARD
END:VTIMEZONE
BEGIN:VEVENT
DTSTART;TZID=Europe/Berlin:20260503T150000
DTEND;TZID=Europe/Berlin:20260503T170000
DTSTAMP:20260421T130226
CREATED:20251223T101752Z
LAST-MODIFIED:20251223T101757Z
UID:2427-1777820400-1777827600@www.neustadtguides.de
SUMMARY:Turmöffnung 2026 Mai
DESCRIPTION:Der Turm ist zur Besichtigung geöffnet. Die Besichtigung ist kostenlos\, über eine Spende freuen sich die Gästeführer.
URL:https://www.neustadtguides.de/event/turmoeffnung-2026-mai/
LOCATION:Junker Hansen Turm\, Junker Hansen Turm\, Neustadt\, Hessen\, 35279\, Deutschland
CATEGORIES:Turmöffnungen
END:VEVENT
END:VCALENDAR