BEGIN:VCALENDAR
VERSION:2.0
PRODID:-//NeuSTADT Guides - ECPv6.15.20//NONSGML v1.0//EN
CALSCALE:GREGORIAN
METHOD:PUBLISH
X-ORIGINAL-URL:https://www.neustadtguides.de
X-WR-CALDESC:Veranstaltungen für NeuSTADT Guides
REFRESH-INTERVAL;VALUE=DURATION:PT1H
X-Robots-Tag:noindex
X-PUBLISHED-TTL:PT1H
BEGIN:VTIMEZONE
TZID:Europe/Berlin
BEGIN:DAYLIGHT
TZOFFSETFROM:+0100
TZOFFSETTO:+0200
TZNAME:CEST
DTSTART:20240331T010000
END:DAYLIGHT
BEGIN:STANDARD
TZOFFSETFROM:+0200
TZOFFSETTO:+0100
TZNAME:CET
DTSTART:20241027T010000
END:STANDARD
BEGIN:DAYLIGHT
TZOFFSETFROM:+0100
TZOFFSETTO:+0200
TZNAME:CEST
DTSTART:20250330T010000
END:DAYLIGHT
BEGIN:STANDARD
TZOFFSETFROM:+0200
TZOFFSETTO:+0100
TZNAME:CET
DTSTART:20251026T010000
END:STANDARD
BEGIN:DAYLIGHT
TZOFFSETFROM:+0100
TZOFFSETTO:+0200
TZNAME:CEST
DTSTART:20260329T010000
END:DAYLIGHT
BEGIN:STANDARD
TZOFFSETFROM:+0200
TZOFFSETTO:+0100
TZNAME:CET
DTSTART:20261025T010000
END:STANDARD
END:VTIMEZONE
BEGIN:VEVENT
DTSTART;TZID=Europe/Berlin:20250504T150000
DTEND;TZID=Europe/Berlin:20250504T170000
DTSTAMP:20260422T003512
CREATED:20250121T112454Z
LAST-MODIFIED:20250121T112457Z
UID:2214-1746370800-1746378000@www.neustadtguides.de
SUMMARY:Turmöffnung 2025 Mai
DESCRIPTION:Der Turm ist zur Besichtigung geöffnet. Die Besichtigung ist kostenlos\, über eine Spende freuen sich die Gästeführer.
URL:https://www.neustadtguides.de/event/turmoeffnung-2025-mai/
LOCATION:Junker Hansen Turm\, Junker Hansen Turm\, Neustadt\, Hessen\, 35279\, Deutschland
CATEGORIES:Turmöffnungen
END:VEVENT
END:VCALENDAR