BEGIN:VCALENDAR
VERSION:2.0
PRODID:-//NeuSTADT Guides - ECPv6.15.20//NONSGML v1.0//EN
CALSCALE:GREGORIAN
METHOD:PUBLISH
X-ORIGINAL-URL:https://www.neustadtguides.de
X-WR-CALDESC:Veranstaltungen für NeuSTADT Guides
REFRESH-INTERVAL;VALUE=DURATION:PT1H
X-Robots-Tag:noindex
X-PUBLISHED-TTL:PT1H
BEGIN:VTIMEZONE
TZID:Europe/Berlin
BEGIN:DAYLIGHT
TZOFFSETFROM:+0100
TZOFFSETTO:+0200
TZNAME:CEST
DTSTART:20240331T010000
END:DAYLIGHT
BEGIN:STANDARD
TZOFFSETFROM:+0200
TZOFFSETTO:+0100
TZNAME:CET
DTSTART:20241027T010000
END:STANDARD
BEGIN:DAYLIGHT
TZOFFSETFROM:+0100
TZOFFSETTO:+0200
TZNAME:CEST
DTSTART:20250330T010000
END:DAYLIGHT
BEGIN:STANDARD
TZOFFSETFROM:+0200
TZOFFSETTO:+0100
TZNAME:CET
DTSTART:20251026T010000
END:STANDARD
BEGIN:DAYLIGHT
TZOFFSETFROM:+0100
TZOFFSETTO:+0200
TZNAME:CEST
DTSTART:20260329T010000
END:DAYLIGHT
BEGIN:STANDARD
TZOFFSETFROM:+0200
TZOFFSETTO:+0100
TZNAME:CET
DTSTART:20261025T010000
END:STANDARD
END:VTIMEZONE
BEGIN:VEVENT
DTSTART;TZID=Europe/Berlin:20250427T140000
DTEND;TZID=Europe/Berlin:20250427T150000
DTSTAMP:20260422T015812
CREATED:20250427T082710Z
LAST-MODIFIED:20250427T082713Z
UID:2283-1745762400-1745766000@www.neustadtguides.de
SUMMARY:Turmöffnung Frühlingsmarkt
DESCRIPTION:Anlässlich des Frühlingsmarktes in Neustadt werden Turmführungen um 14:00 und 15:00 Uhr angeboten. Tickets am Neustadtladen\, Treffpunkt mit Ticket dann rechtzeitig am Junker-Hansen Turm. Wir freuen uns.
URL:https://www.neustadtguides.de/event/turmoeffnung-fruehlingsmarkt/
LOCATION:Junker Hansen Turm\, Junker Hansen Turm\, Neustadt\, Hessen\, 35279\, Deutschland
CATEGORIES:Turmöffnungen
END:VEVENT
END:VCALENDAR