BEGIN:VCALENDAR
VERSION:2.0
PRODID:-//NeuSTADT Guides - ECPv6.15.20//NONSGML v1.0//EN
CALSCALE:GREGORIAN
METHOD:PUBLISH
X-WR-CALNAME:NeuSTADT Guides
X-ORIGINAL-URL:https://www.neustadtguides.de
X-WR-CALDESC:Veranstaltungen für NeuSTADT Guides
REFRESH-INTERVAL;VALUE=DURATION:PT1H
X-Robots-Tag:noindex
X-PUBLISHED-TTL:PT1H
BEGIN:VTIMEZONE
TZID:Europe/Berlin
BEGIN:DAYLIGHT
TZOFFSETFROM:+0100
TZOFFSETTO:+0200
TZNAME:CEST
DTSTART:20250330T010000
END:DAYLIGHT
BEGIN:STANDARD
TZOFFSETFROM:+0200
TZOFFSETTO:+0100
TZNAME:CET
DTSTART:20251026T010000
END:STANDARD
BEGIN:DAYLIGHT
TZOFFSETFROM:+0100
TZOFFSETTO:+0200
TZNAME:CEST
DTSTART:20260329T010000
END:DAYLIGHT
BEGIN:STANDARD
TZOFFSETFROM:+0200
TZOFFSETTO:+0100
TZNAME:CET
DTSTART:20261025T010000
END:STANDARD
BEGIN:DAYLIGHT
TZOFFSETFROM:+0100
TZOFFSETTO:+0200
TZNAME:CEST
DTSTART:20270328T010000
END:DAYLIGHT
BEGIN:STANDARD
TZOFFSETFROM:+0200
TZOFFSETTO:+0100
TZNAME:CET
DTSTART:20271031T010000
END:STANDARD
END:VTIMEZONE
BEGIN:VEVENT
DTSTART;TZID=Europe/Berlin:20260426T140000
DTEND;TZID=Europe/Berlin:20260426T150000
DTSTAMP:20260421T120141
CREATED:20251223T103609Z
LAST-MODIFIED:20251223T103614Z
UID:2445-1777212000-1777215600@www.neustadtguides.de
SUMMARY:Turmöffnung Frühlingsmarkt
DESCRIPTION:Anlässlich des Frühlingsmarktes in Neustadt werden Turmführungen angeboten. Tickets am Neustadtladen\, Treffpunkt mit Ticket dann rechtzeitig am Junker-Hansen Turm. Wir freuen uns.
URL:https://www.neustadtguides.de/event/turmoeffnung-fruehlingsmarkt-2/
LOCATION:Junker Hansen Turm\, Junker Hansen Turm\, Neustadt\, Hessen\, 35279\, Deutschland
CATEGORIES:Turmöffnungen
END:VEVENT
BEGIN:VEVENT
DTSTART;TZID=Europe/Berlin:20260503T150000
DTEND;TZID=Europe/Berlin:20260503T170000
DTSTAMP:20260421T120141
CREATED:20251223T101752Z
LAST-MODIFIED:20251223T101757Z
UID:2427-1777820400-1777827600@www.neustadtguides.de
SUMMARY:Turmöffnung 2026 Mai
DESCRIPTION:Der Turm ist zur Besichtigung geöffnet. Die Besichtigung ist kostenlos\, über eine Spende freuen sich die Gästeführer.
URL:https://www.neustadtguides.de/event/turmoeffnung-2026-mai/
LOCATION:Junker Hansen Turm\, Junker Hansen Turm\, Neustadt\, Hessen\, 35279\, Deutschland
CATEGORIES:Turmöffnungen
END:VEVENT
BEGIN:VEVENT
DTSTART;TZID=Europe/Berlin:20260607T150000
DTEND;TZID=Europe/Berlin:20260607T170000
DTSTAMP:20260421T120141
CREATED:20251223T101843Z
LAST-MODIFIED:20251223T101847Z
UID:2429-1780844400-1780851600@www.neustadtguides.de
SUMMARY:Turmöffnung 2026 Juni
DESCRIPTION:Der Turm ist zur Besichtigung geöffnet. Die Besichtigung ist kostenlos\, über eine Spende freuen sich die Gästeführer.
URL:https://www.neustadtguides.de/event/turmoeffnung-2026-juni/
LOCATION:Junker Hansen Turm\, Junker Hansen Turm\, Neustadt\, Hessen\, 35279\, Deutschland
CATEGORIES:Turmöffnungen
END:VEVENT
BEGIN:VEVENT
DTSTART;TZID=Europe/Berlin:20260627T130000
DTEND;TZID=Europe/Berlin:20260628T170000
DTSTAMP:20260421T120141
CREATED:20251223T103431Z
LAST-MODIFIED:20251223T103437Z
UID:2443-1782565200-1782666000@www.neustadtguides.de
SUMMARY:Junker Hanser Mittelaltermarkt
DESCRIPTION:Turm ist geöffnet anlässlich des Mittelaltermarktes. Auf der Homepage https://www.mittelalter-neustadt.de wird das bereits beworben. \n\n\n\nDie Öffnungszeiten sind: \n\n\n\n\nSamstag von 13:00 bis 17:00 Uhr\n\n\n\nSonntag von 13:00 bis 17:00 Uhr\n\n\n\n\nEs sind maximal 20 Personen im Turm erlaubt.
URL:https://www.neustadtguides.de/event/junker-hanser-mittelaltermarkt-2/
LOCATION:Junker Hansen Turm\, Junker Hansen Turm\, Neustadt\, Hessen\, 35279\, Deutschland
CATEGORIES:Turmöffnungen
END:VEVENT
BEGIN:VEVENT
DTSTART;TZID=Europe/Berlin:20260705T150000
DTEND;TZID=Europe/Berlin:20260705T170000
DTSTAMP:20260421T120141
CREATED:20251223T101932Z
LAST-MODIFIED:20251223T101936Z
UID:2431-1783263600-1783270800@www.neustadtguides.de
SUMMARY:Turmöffnung 2026 Juli
DESCRIPTION:Der Turm ist zur Besichtigung geöffnet. Die Besichtigung ist kostenlos\, über eine Spende freuen sich die Gästeführer.
URL:https://www.neustadtguides.de/event/turmoeffnung-2026-juli/
LOCATION:Junker Hansen Turm\, Junker Hansen Turm\, Neustadt\, Hessen\, 35279\, Deutschland
CATEGORIES:Turmöffnungen
END:VEVENT
BEGIN:VEVENT
DTSTART;TZID=Europe/Berlin:20260802T150000
DTEND;TZID=Europe/Berlin:20260802T170000
DTSTAMP:20260421T120141
CREATED:20251223T102029Z
LAST-MODIFIED:20251223T102033Z
UID:2433-1785682800-1785690000@www.neustadtguides.de
SUMMARY:Turmöffnung 2026 August
DESCRIPTION:Der Turm ist zur Besichtigung geöffnet. Die Besichtigung ist kostenlos\, über eine Spende freuen sich die Gästeführer.
URL:https://www.neustadtguides.de/event/turmoeffnung-2026-august/
LOCATION:Junker Hansen Turm\, Junker Hansen Turm\, Neustadt\, Hessen\, 35279\, Deutschland
CATEGORIES:Turmöffnungen
END:VEVENT
BEGIN:VEVENT
DTSTART;TZID=Europe/Berlin:20260906T150000
DTEND;TZID=Europe/Berlin:20260906T170000
DTSTAMP:20260421T120141
CREATED:20251223T102114Z
LAST-MODIFIED:20251223T102119Z
UID:2435-1788706800-1788714000@www.neustadtguides.de
SUMMARY:Turmöffnung 2026 September
DESCRIPTION:Der Turm ist zur Besichtigung geöffnet. Die Besichtigung ist kostenlos\, über eine Spende freuen sich die Gästeführer.
URL:https://www.neustadtguides.de/event/turmoeffnung-2026-september/
LOCATION:Junker Hansen Turm\, Junker Hansen Turm\, Neustadt\, Hessen\, 35279\, Deutschland
CATEGORIES:Turmöffnungen
END:VEVENT
BEGIN:VEVENT
DTSTART;TZID=Europe/Berlin:20260913T110000
DTEND;TZID=Europe/Berlin:20260913T160000
DTSTAMP:20260421T120141
CREATED:20251223T103326Z
LAST-MODIFIED:20251223T103331Z
UID:2441-1789297200-1789315200@www.neustadtguides.de
SUMMARY:Tag des offenen Denkmals
DESCRIPTION:Turm ist geöffnet\, eventuell mit Beiprogramm
URL:https://www.neustadtguides.de/event/tag-des-offenen-denkmals/
LOCATION:Junker Hansen Turm\, Junker Hansen Turm\, Neustadt\, Hessen\, 35279\, Deutschland
CATEGORIES:Öffentlich,Turmöffnungen
END:VEVENT
BEGIN:VEVENT
DTSTART;TZID=Europe/Berlin:20261004T150000
DTEND;TZID=Europe/Berlin:20261004T170000
DTSTAMP:20260421T120141
CREATED:20251223T102207Z
LAST-MODIFIED:20251223T102211Z
UID:2437-1791126000-1791133200@www.neustadtguides.de
SUMMARY:Turmöffnung 2026 Oktober
DESCRIPTION:Der Turm ist zur Besichtigung geöffnet. Die Besichtigung ist kostenlos\, über eine Spende freuen sich die Gästeführer.
URL:https://www.neustadtguides.de/event/turmoeffnung-2026-oktober/
LOCATION:Junker Hansen Turm\, Junker Hansen Turm\, Neustadt\, Hessen\, 35279\, Deutschland
CATEGORIES:Turmöffnungen
END:VEVENT
BEGIN:VEVENT
DTSTART;TZID=Europe/Berlin:20261031T183000
DTEND;TZID=Europe/Berlin:20261031T200000
DTSTAMP:20260421T120141
CREATED:20251223T103149Z
LAST-MODIFIED:20251223T103153Z
UID:2439-1793471400-1793476800@www.neustadtguides.de
SUMMARY:Nachtöffnung Junker Hansen Turm
DESCRIPTION:Der Junker Hansen Turm ist geöffnet\, lassen Sie sich überraschen
URL:https://www.neustadtguides.de/event/nachtoeffnung-junker-hansen-turm/
LOCATION:Junker Hansen Turm\, Junker Hansen Turm\, Neustadt\, Hessen\, 35279\, Deutschland
CATEGORIES:Turmöffnungen
END:VEVENT
END:VCALENDAR